BEGIN:VCALENDAR
VERSION:2.0
PRODID:-//Sandford &amp; St Philip&#039;s - ECPv6.15.20//NONSGML v1.0//EN
CALSCALE:GREGORIAN
METHOD:PUBLISH
X-WR-CALNAME:Sandford &amp; St Philip&#039;s
X-ORIGINAL-URL:https://sandford.dublin.anglican.org
X-WR-CALDESC:Events for Sandford &amp; St Philip&#039;s
REFRESH-INTERVAL;VALUE=DURATION:PT1H
X-Robots-Tag:noindex
X-PUBLISHED-TTL:PT1H
BEGIN:VTIMEZONE
TZID:Europe/Dublin
BEGIN:STANDARD
TZOFFSETFROM:+0000
TZOFFSETTO:+0100
TZNAME:IST
DTSTART:20170326T010000
END:STANDARD
BEGIN:DAYLIGHT
TZOFFSETFROM:+0100
TZOFFSETTO:+0000
TZNAME:GMT
DTSTART:20171029T010000
END:DAYLIGHT
BEGIN:STANDARD
TZOFFSETFROM:+0000
TZOFFSETTO:+0100
TZNAME:IST
DTSTART:20180325T010000
END:STANDARD
BEGIN:DAYLIGHT
TZOFFSETFROM:+0100
TZOFFSETTO:+0000
TZNAME:GMT
DTSTART:20181028T010000
END:DAYLIGHT
BEGIN:STANDARD
TZOFFSETFROM:+0000
TZOFFSETTO:+0100
TZNAME:IST
DTSTART:20190331T010000
END:STANDARD
BEGIN:DAYLIGHT
TZOFFSETFROM:+0100
TZOFFSETTO:+0000
TZNAME:GMT
DTSTART:20191027T010000
END:DAYLIGHT
END:VTIMEZONE
BEGIN:VEVENT
DTSTART;TZID=Europe/Dublin:20181222T100000
DTEND;TZID=Europe/Dublin:20181222T120000
DTSTAMP:20260423T155246
CREATED:20181223T101508Z
LAST-MODIFIED:20181223T101508Z
UID:17516-1545472800-1545480000@sandford.dublin.anglican.org
SUMMARY:Decorating of Sandford & St Philip's Churches for Christmas
DESCRIPTION:10am
URL:https://sandford.dublin.anglican.org/event/decorating-of-sandford-st-philips-churches-for-christmas-3/
LOCATION:St. Philip’s Church
CATEGORIES:Christmas
END:VEVENT
BEGIN:VEVENT
DTSTART;TZID=Europe/Dublin:20181223T101500
DTEND;TZID=Europe/Dublin:20181223T110000
DTSTAMP:20260423T155246
CREATED:20181223T101618Z
LAST-MODIFIED:20181223T101618Z
UID:17518-1545560100-1545562800@sandford.dublin.anglican.org
SUMMARY:Rehearsal for children's Christmas drama\, Sandford Church
DESCRIPTION:10.15am
URL:https://sandford.dublin.anglican.org/event/rehearsal-for-childrens-christmas-drama-sandford-church-3/
LOCATION:St. Philip’s Church
CATEGORIES:Christmas
END:VEVENT
BEGIN:VEVENT
DTSTART;TZID=Europe/Dublin:20181224T113000
DTEND;TZID=Europe/Dublin:20181224T123000
DTSTAMP:20260423T155246
CREATED:20181223T100555Z
LAST-MODIFIED:20181223T100611Z
UID:17501-1545651000-1545654600@sandford.dublin.anglican.org
SUMMARY:Christmas Eve: First Eucharist of Christmas (Sandford Church)
DESCRIPTION:11.30pm\, Sandford Church
URL:https://sandford.dublin.anglican.org/event/christmas-eve-first-eucharist-of-christmas-sandford/
LOCATION:Sandford Church
CATEGORIES:Christmas
END:VEVENT
BEGIN:VEVENT
DTSTART;TZID=Europe/Dublin:20181225T083000
DTEND;TZID=Europe/Dublin:20181225T090000
DTSTAMP:20260423T155246
CREATED:20181223T100738Z
LAST-MODIFIED:20181223T102403Z
UID:17504-1545726600-1545728400@sandford.dublin.anglican.org
SUMMARY:Christmas Day: Holy Communion\, St Philip's
DESCRIPTION:8.30am\, St Philip’s
URL:https://sandford.dublin.anglican.org/event/christmas-day-holy-communion-st-philips-4/
LOCATION:St. Philip’s Church
CATEGORIES:Christmas
END:VEVENT
BEGIN:VEVENT
DTSTART;TZID=Europe/Dublin:20181225T100000
DTEND;TZID=Europe/Dublin:20181225T110000
DTSTAMP:20260423T155246
CREATED:20181223T100858Z
LAST-MODIFIED:20181223T100858Z
UID:17506-1545732000-1545735600@sandford.dublin.anglican.org
SUMMARY:Christmas Day: Holy Communion\, Sandford Church
DESCRIPTION:10am\, Sandford Church
URL:https://sandford.dublin.anglican.org/event/christmas-day-holy-communion-sandford-church/
LOCATION:Sandford Church
CATEGORIES:Christmas
END:VEVENT
BEGIN:VEVENT
DTSTART;TZID=Europe/Dublin:20181225T113000
DTEND;TZID=Europe/Dublin:20181225T123000
DTSTAMP:20260423T155246
CREATED:20181223T101010Z
LAST-MODIFIED:20181223T101010Z
UID:17508-1545737400-1545741000@sandford.dublin.anglican.org
SUMMARY:Christmas Day: Holy Communion\, St Philip's
DESCRIPTION:11.30am\, St Philip’s
URL:https://sandford.dublin.anglican.org/event/christmas-day-holy-communion-st-philips-5/
LOCATION:St. Philip’s Church
CATEGORIES:Christmas
END:VEVENT
END:VCALENDAR