BEGIN:VCALENDAR
VERSION:2.0
PRODID:-//Sandford &amp; St Philip&#039;s - ECPv6.15.20//NONSGML v1.0//EN
CALSCALE:GREGORIAN
METHOD:PUBLISH
X-ORIGINAL-URL:https://sandford.dublin.anglican.org
X-WR-CALDESC:Events for Sandford &amp; St Philip&#039;s
REFRESH-INTERVAL;VALUE=DURATION:PT1H
X-Robots-Tag:noindex
X-PUBLISHED-TTL:PT1H
BEGIN:VTIMEZONE
TZID:Europe/Dublin
BEGIN:STANDARD
TZOFFSETFROM:+0000
TZOFFSETTO:+0100
TZNAME:IST
DTSTART:20180325T010000
END:STANDARD
BEGIN:DAYLIGHT
TZOFFSETFROM:+0100
TZOFFSETTO:+0000
TZNAME:GMT
DTSTART:20181028T010000
END:DAYLIGHT
BEGIN:STANDARD
TZOFFSETFROM:+0000
TZOFFSETTO:+0100
TZNAME:IST
DTSTART:20190331T010000
END:STANDARD
BEGIN:DAYLIGHT
TZOFFSETFROM:+0100
TZOFFSETTO:+0000
TZNAME:GMT
DTSTART:20191027T010000
END:DAYLIGHT
BEGIN:STANDARD
TZOFFSETFROM:+0000
TZOFFSETTO:+0100
TZNAME:IST
DTSTART:20200329T010000
END:STANDARD
BEGIN:DAYLIGHT
TZOFFSETFROM:+0100
TZOFFSETTO:+0000
TZNAME:GMT
DTSTART:20201025T010000
END:DAYLIGHT
END:VTIMEZONE
BEGIN:VEVENT
DTSTART;TZID=Europe/Dublin:20191224T233000
DTEND;TZID=Europe/Dublin:20191225T003000
DTSTAMP:20260419T182248
CREATED:20191201T204557Z
LAST-MODIFIED:20191201T204557Z
UID:29691-1577230200-1577233800@sandford.dublin.anglican.org
SUMMARY:Christmas Eve Service\, Sandford Church
DESCRIPTION:11.30 pm\nSandford Church\nFirst Eucharist of Christmas
URL:https://sandford.dublin.anglican.org/event/christmas-eve-service-sandford-church/
LOCATION:Sandford Church
CATEGORIES:Christmas
END:VEVENT
BEGIN:VEVENT
DTSTART;TZID=Europe/Dublin:20191225T083000
DTEND;TZID=Europe/Dublin:20191225T090000
DTSTAMP:20260419T182248
CREATED:20191201T204725Z
LAST-MODIFIED:20191201T204725Z
UID:29693-1577262600-1577264400@sandford.dublin.anglican.org
SUMMARY:Christmas Day\, Holy Communion\, St Philip's
DESCRIPTION:8.30 am – Holy Communion\, St Philip’s
URL:https://sandford.dublin.anglican.org/event/christmas-day-holy-communion-st-philips-6/
LOCATION:St. Philip’s Church
CATEGORIES:Christmas
END:VEVENT
BEGIN:VEVENT
DTSTART;TZID=Europe/Dublin:20191225T100000
DTEND;TZID=Europe/Dublin:20191225T110000
DTSTAMP:20260419T182248
CREATED:20191201T204820Z
LAST-MODIFIED:20191201T204820Z
UID:29695-1577268000-1577271600@sandford.dublin.anglican.org
SUMMARY:Christmas Day\, Holy Communion\, Sandford Church
DESCRIPTION:10 am – Holy Communion\, Sandford
URL:https://sandford.dublin.anglican.org/event/christmas-day-holy-communion-sandford-church-2/
LOCATION:Sandford Church
CATEGORIES:Christmas
END:VEVENT
BEGIN:VEVENT
DTSTART;TZID=Europe/Dublin:20191225T113000
DTEND;TZID=Europe/Dublin:20191225T123000
DTSTAMP:20260419T182248
CREATED:20191201T204914Z
LAST-MODIFIED:20191201T204914Z
UID:29697-1577273400-1577277000@sandford.dublin.anglican.org
SUMMARY:Christmas Day\, Holy Communion\, St Philip's
DESCRIPTION:11.30 am – Holy Communion\, St Philip’s
URL:https://sandford.dublin.anglican.org/event/christmas-day-holy-communion-st-philips-7/
LOCATION:St. Philip’s Church
CATEGORIES:Christmas
END:VEVENT
END:VCALENDAR