BEGIN:VCALENDAR
VERSION:2.0
PRODID:-//Sandford &amp; St Philip&#039;s - ECPv6.15.20//NONSGML v1.0//EN
CALSCALE:GREGORIAN
METHOD:PUBLISH
X-ORIGINAL-URL:https://sandford.dublin.anglican.org
X-WR-CALDESC:Events for Sandford &amp; St Philip&#039;s
REFRESH-INTERVAL;VALUE=DURATION:PT1H
X-Robots-Tag:noindex
X-PUBLISHED-TTL:PT1H
BEGIN:VTIMEZONE
TZID:Europe/Dublin
BEGIN:STANDARD
TZOFFSETFROM:+0000
TZOFFSETTO:+0100
TZNAME:IST
DTSTART:20190331T010000
END:STANDARD
BEGIN:DAYLIGHT
TZOFFSETFROM:+0100
TZOFFSETTO:+0000
TZNAME:GMT
DTSTART:20191027T010000
END:DAYLIGHT
BEGIN:STANDARD
TZOFFSETFROM:+0000
TZOFFSETTO:+0100
TZNAME:IST
DTSTART:20200329T010000
END:STANDARD
BEGIN:DAYLIGHT
TZOFFSETFROM:+0100
TZOFFSETTO:+0000
TZNAME:GMT
DTSTART:20201025T010000
END:DAYLIGHT
BEGIN:STANDARD
TZOFFSETFROM:+0000
TZOFFSETTO:+0100
TZNAME:IST
DTSTART:20210328T010000
END:STANDARD
BEGIN:DAYLIGHT
TZOFFSETFROM:+0100
TZOFFSETTO:+0000
TZNAME:GMT
DTSTART:20211031T010000
END:DAYLIGHT
END:VTIMEZONE
BEGIN:VEVENT
DTSTART;TZID=Europe/Dublin:20200503T100000
DTEND;TZID=Europe/Dublin:20200503T110000
DTSTAMP:20260421T034708
CREATED:20191201T205407Z
LAST-MODIFIED:20200308T065627Z
UID:29703-1588500000-1588503600@sandford.dublin.anglican.org
SUMMARY:Confirmation Service\, Sandford Church (joint service)
DESCRIPTION:10am\, Sandford Church
URL:https://sandford.dublin.anglican.org/event/confirmation-sandford-church/
LOCATION:Sandford Church
CATEGORIES:Confirmation
END:VEVENT
BEGIN:VEVENT
DTSTART;TZID=Europe/Dublin:20200506T184500
DTEND;TZID=Europe/Dublin:20200506T193000
DTSTAMP:20260421T034708
CREATED:20200201T064544Z
LAST-MODIFIED:20200201T064544Z
UID:29768-1588790700-1588793400@sandford.dublin.anglican.org
SUMMARY:Confirmation Class
DESCRIPTION:6.45pm – 7.30pm
URL:https://sandford.dublin.anglican.org/event/confirmation-class-11/
LOCATION:Sandford Parish National School
CATEGORIES:Confirmation
END:VEVENT
BEGIN:VEVENT
DTSTART;TZID=Europe/Dublin:20200513T184500
DTEND;TZID=Europe/Dublin:20200513T193000
DTSTAMP:20260421T034708
CREATED:20200201T064638Z
LAST-MODIFIED:20200201T064638Z
UID:29770-1589395500-1589398200@sandford.dublin.anglican.org
SUMMARY:Confirmation Class
DESCRIPTION:6.45pm – 7.30pm
URL:https://sandford.dublin.anglican.org/event/confirmation-class-12/
LOCATION:Sandford Parish National School
CATEGORIES:Confirmation
END:VEVENT
BEGIN:VEVENT
DTSTART;TZID=Europe/Dublin:20200520T184500
DTEND;TZID=Europe/Dublin:20200520T193000
DTSTAMP:20260421T034708
CREATED:20200201T064720Z
LAST-MODIFIED:20200201T064720Z
UID:29772-1590000300-1590003000@sandford.dublin.anglican.org
SUMMARY:Confirmation Class
DESCRIPTION:6.45pm – 7.30pm
URL:https://sandford.dublin.anglican.org/event/confirmation-class-13/
LOCATION:St. Philip’s Church
CATEGORIES:Confirmation
END:VEVENT
BEGIN:VEVENT
DTSTART;TZID=Europe/Dublin:20200524T110000
DTEND;TZID=Europe/Dublin:20200524T120000
DTSTAMP:20260421T034708
CREATED:20200201T063708Z
LAST-MODIFIED:20200201T063720Z
UID:29747-1590318000-1590321600@sandford.dublin.anglican.org
SUMMARY:Service led by Confirmation group\, St Philip's Church
DESCRIPTION:11am
URL:https://sandford.dublin.anglican.org/event/service-led-by-confirmation-group-st-philips/
LOCATION:St. Philip’s Church
CATEGORIES:Confirmation
END:VEVENT
END:VCALENDAR