BEGIN:VCALENDAR
VERSION:2.0
PRODID:-//Sandford &amp; St Philip&#039;s - ECPv6.15.20//NONSGML v1.0//EN
CALSCALE:GREGORIAN
METHOD:PUBLISH
X-WR-CALNAME:Sandford &amp; St Philip&#039;s
X-ORIGINAL-URL:https://sandford.dublin.anglican.org
X-WR-CALDESC:Events for Sandford &amp; St Philip&#039;s
REFRESH-INTERVAL;VALUE=DURATION:PT1H
X-Robots-Tag:noindex
X-PUBLISHED-TTL:PT1H
BEGIN:VTIMEZONE
TZID:Europe/Dublin
BEGIN:STANDARD
TZOFFSETFROM:+0000
TZOFFSETTO:+0100
TZNAME:IST
DTSTART:20180325T010000
END:STANDARD
BEGIN:DAYLIGHT
TZOFFSETFROM:+0100
TZOFFSETTO:+0000
TZNAME:GMT
DTSTART:20181028T010000
END:DAYLIGHT
BEGIN:STANDARD
TZOFFSETFROM:+0000
TZOFFSETTO:+0100
TZNAME:IST
DTSTART:20190331T010000
END:STANDARD
BEGIN:DAYLIGHT
TZOFFSETFROM:+0100
TZOFFSETTO:+0000
TZNAME:GMT
DTSTART:20191027T010000
END:DAYLIGHT
BEGIN:STANDARD
TZOFFSETFROM:+0000
TZOFFSETTO:+0100
TZNAME:IST
DTSTART:20200329T010000
END:STANDARD
BEGIN:DAYLIGHT
TZOFFSETFROM:+0100
TZOFFSETTO:+0000
TZNAME:GMT
DTSTART:20201025T010000
END:DAYLIGHT
END:VTIMEZONE
BEGIN:VEVENT
DTSTART;TZID=Europe/Dublin:20190414T110000
DTEND;TZID=Europe/Dublin:20190414T120000
DTSTAMP:20260422T045512
CREATED:20190316T082101Z
LAST-MODIFIED:20190316T082101Z
UID:17637-1555239600-1555243200@sandford.dublin.anglican.org
SUMMARY:Palm Sunday\, St Philip's Church (joint service)
DESCRIPTION:11am\, Celebration of the Eucharist with the reading of the Passion Narrative
URL:https://sandford.dublin.anglican.org/event/palm-sunday-st-philips-church-joint-service/
LOCATION:St. Philip’s Church
CATEGORIES:Lent
END:VEVENT
BEGIN:VEVENT
DTSTART;TZID=Europe/Dublin:20190414T190000
DTEND;TZID=Europe/Dublin:20190414T200000
DTSTAMP:20260422T045512
CREATED:20190316T081641Z
LAST-MODIFIED:20190316T081650Z
UID:17630-1555268400-1555272000@sandford.dublin.anglican.org
SUMMARY:'The Crucifixion' by Sir John Stainer\, St Brigid's Cathedral\, Kildare
DESCRIPTION:The Choral Union and Choral Scholars will also perform ‘The Crucifixion’ in St Brigid’s Cathedral\, Kildare\, on the evening of Palm Sunday (14 April) at 7pm (tbc)\, together with the Cathedral choir.
URL:https://sandford.dublin.anglican.org/event/the-crucifixion-by-sir-john-stainer-st-brigids-cathedral-kildare/
LOCATION:St. Brigid’s Cathedral\, Kildare
CATEGORIES:Lent
END:VEVENT
END:VCALENDAR