BEGIN:VCALENDAR
VERSION:2.0
PRODID:-//Sandford &amp; St Philip&#039;s - ECPv6.15.20//NONSGML v1.0//EN
CALSCALE:GREGORIAN
METHOD:PUBLISH
X-WR-CALNAME:Sandford &amp; St Philip&#039;s
X-ORIGINAL-URL:https://sandford.dublin.anglican.org
X-WR-CALDESC:Events for Sandford &amp; St Philip&#039;s
REFRESH-INTERVAL;VALUE=DURATION:PT1H
X-Robots-Tag:noindex
X-PUBLISHED-TTL:PT1H
BEGIN:VTIMEZONE
TZID:Europe/Dublin
BEGIN:STANDARD
TZOFFSETFROM:+0000
TZOFFSETTO:+0100
TZNAME:IST
DTSTART:20180325T010000
END:STANDARD
BEGIN:DAYLIGHT
TZOFFSETFROM:+0100
TZOFFSETTO:+0000
TZNAME:GMT
DTSTART:20181028T010000
END:DAYLIGHT
BEGIN:STANDARD
TZOFFSETFROM:+0000
TZOFFSETTO:+0100
TZNAME:IST
DTSTART:20190331T010000
END:STANDARD
BEGIN:DAYLIGHT
TZOFFSETFROM:+0100
TZOFFSETTO:+0000
TZNAME:GMT
DTSTART:20191027T010000
END:DAYLIGHT
BEGIN:STANDARD
TZOFFSETFROM:+0000
TZOFFSETTO:+0100
TZNAME:IST
DTSTART:20200329T010000
END:STANDARD
BEGIN:DAYLIGHT
TZOFFSETFROM:+0100
TZOFFSETTO:+0000
TZNAME:GMT
DTSTART:20201025T010000
END:DAYLIGHT
END:VTIMEZONE
BEGIN:VEVENT
DTSTART;TZID=Europe/Dublin:20190417T103000
DTEND;TZID=Europe/Dublin:20190417T110000
DTSTAMP:20260422T040816
CREATED:20190316T082426Z
LAST-MODIFIED:20190316T082426Z
UID:17643-1555497000-1555498800@sandford.dublin.anglican.org
SUMMARY:Holy Week: Holy Communion\, Sandford
DESCRIPTION:10.30am
URL:https://sandford.dublin.anglican.org/event/holy-week-holy-communion-sandford-2/
LOCATION:Sandford Church
CATEGORIES:Lent
END:VEVENT
BEGIN:VEVENT
DTSTART;TZID=Europe/Dublin:20190417T200000
DTEND;TZID=Europe/Dublin:20190417T210000
DTSTAMP:20260422T040816
CREATED:20190316T081509Z
LAST-MODIFIED:20190316T081509Z
UID:17628-1555531200-1555534800@sandford.dublin.anglican.org
SUMMARY:'The Crucifixion' by Sir John Stainer\, St Philip's Church
DESCRIPTION:On Wednesday 17 April at 8 pm in St Philip’s Church the Choral Union and Choral Scholars\nwill present a performance of Sir John Stainer’s passion oratorio ‘The Crucifixion’\,\naccompanied by David Leigh\, Organist of St Patrick’s Cathedral.
URL:https://sandford.dublin.anglican.org/event/the-crucifixion-by-sir-john-stainer-st-philips-church/
LOCATION:St. Philip’s Church
CATEGORIES:Lent
END:VEVENT
END:VCALENDAR