BEGIN:VCALENDAR
VERSION:2.0
PRODID:-//Sandford &amp; St Philip&#039;s - ECPv6.15.20//NONSGML v1.0//EN
CALSCALE:GREGORIAN
METHOD:PUBLISH
X-WR-CALNAME:Sandford &amp; St Philip&#039;s
X-ORIGINAL-URL:https://sandford.dublin.anglican.org
X-WR-CALDESC:Events for Sandford &amp; St Philip&#039;s
REFRESH-INTERVAL;VALUE=DURATION:PT1H
X-Robots-Tag:noindex
X-PUBLISHED-TTL:PT1H
BEGIN:VTIMEZONE
TZID:Europe/Dublin
BEGIN:STANDARD
TZOFFSETFROM:+0000
TZOFFSETTO:+0100
TZNAME:IST
DTSTART:20200329T010000
END:STANDARD
BEGIN:DAYLIGHT
TZOFFSETFROM:+0100
TZOFFSETTO:+0000
TZNAME:GMT
DTSTART:20201025T010000
END:DAYLIGHT
BEGIN:STANDARD
TZOFFSETFROM:+0000
TZOFFSETTO:+0100
TZNAME:IST
DTSTART:20210328T010000
END:STANDARD
BEGIN:DAYLIGHT
TZOFFSETFROM:+0100
TZOFFSETTO:+0000
TZNAME:GMT
DTSTART:20211031T010000
END:DAYLIGHT
BEGIN:STANDARD
TZOFFSETFROM:+0000
TZOFFSETTO:+0100
TZNAME:IST
DTSTART:20220327T010000
END:STANDARD
BEGIN:DAYLIGHT
TZOFFSETFROM:+0100
TZOFFSETTO:+0000
TZNAME:GMT
DTSTART:20221030T010000
END:DAYLIGHT
END:VTIMEZONE
BEGIN:VEVENT
DTSTART;TZID=Europe/Dublin:20210211T200000
DTEND;TZID=Europe/Dublin:20210211T200000
DTSTAMP:20260421T152810
CREATED:20210130T190903Z
LAST-MODIFIED:20210130T190903Z
UID:30593-1613073600-1613073600@sandford.dublin.anglican.org
SUMMARY:Virtual Quiz
DESCRIPTION:Following the success of the first one\, the Parish Development Committee is running a second virtual quiz on Thursday 11th February at 8pm. Please see details below and attached. \n  \n“There are lots of ways to participate. You can join in on your own at home\, dial in with other members of your household as a team or you can team up with other households on a ‘virtual team’ through the use of break-out rooms. If you are on your own but would like to be part of a ‘virtual team’ then you can let us know and we can arrange that. Some chocolate will be up for grabs again! If you are interested in joining in then please RSVP before Monday 8th February at the latest to sandfordandstphilips@gmail.com “
URL:https://sandford.dublin.anglican.org/event/virtual-quiz/
LOCATION:Zoom
CATEGORIES:Parish Activity
END:VEVENT
BEGIN:VEVENT
DTSTART;TZID=Europe/Dublin:20210224T113000
DTEND;TZID=Europe/Dublin:20210224T123000
DTSTAMP:20260421T152810
CREATED:20210215T083837Z
LAST-MODIFIED:20210215T083837Z
UID:30626-1614166200-1614169800@sandford.dublin.anglican.org
SUMMARY:Coffee & Chat (Zoom)
DESCRIPTION:We plan to have our next Zoom Coffee & Chat on Wednesday 24th February at 11.30 am. \nContact the Parish Office for details.
URL:https://sandford.dublin.anglican.org/event/coffee-chat-zoom/
LOCATION:Zoom
CATEGORIES:Parish Activity
END:VEVENT
END:VCALENDAR