BEGIN:VCALENDAR
VERSION:2.0
PRODID:-//Sandford &amp; St Philip&#039;s - ECPv6.15.20//NONSGML v1.0//EN
CALSCALE:GREGORIAN
METHOD:PUBLISH
X-WR-CALNAME:Sandford &amp; St Philip&#039;s
X-ORIGINAL-URL:https://sandford.dublin.anglican.org
X-WR-CALDESC:Events for Sandford &amp; St Philip&#039;s
REFRESH-INTERVAL;VALUE=DURATION:PT1H
X-Robots-Tag:noindex
X-PUBLISHED-TTL:PT1H
BEGIN:VTIMEZONE
TZID:Europe/Dublin
BEGIN:STANDARD
TZOFFSETFROM:+0000
TZOFFSETTO:+0100
TZNAME:IST
DTSTART:20180325T010000
END:STANDARD
BEGIN:DAYLIGHT
TZOFFSETFROM:+0100
TZOFFSETTO:+0000
TZNAME:GMT
DTSTART:20181028T010000
END:DAYLIGHT
BEGIN:STANDARD
TZOFFSETFROM:+0000
TZOFFSETTO:+0100
TZNAME:IST
DTSTART:20190331T010000
END:STANDARD
BEGIN:DAYLIGHT
TZOFFSETFROM:+0100
TZOFFSETTO:+0000
TZNAME:GMT
DTSTART:20191027T010000
END:DAYLIGHT
BEGIN:STANDARD
TZOFFSETFROM:+0000
TZOFFSETTO:+0100
TZNAME:IST
DTSTART:20200329T010000
END:STANDARD
BEGIN:DAYLIGHT
TZOFFSETFROM:+0100
TZOFFSETTO:+0000
TZNAME:GMT
DTSTART:20201025T010000
END:DAYLIGHT
END:VTIMEZONE
BEGIN:VEVENT
DTSTART;TZID=Europe/Dublin:20191113T110000
DTEND;TZID=Europe/Dublin:20191113T120000
DTSTAMP:20260424T073617
CREATED:20190930T123546Z
LAST-MODIFIED:20190930T123608Z
UID:18080-1573642800-1573646400@sandford.dublin.anglican.org
SUMMARY:SandMillers: Presentation in Sandford Church on "Eco-congregation and biodiversity - the Churches' Response
DESCRIPTION:Wednesday 13 November: ‘Eco-congregation and Bio-diversity: The Churches’ Response.’ A presentation by Andrew Shorten in Sandford Church at 11am (following the 10.30 am service of Holy Communion). All welcome\, just turn up. Refreshments provided. Donation €5
URL:https://sandford.dublin.anglican.org/event/sandmillers-in-sandford-church-presentation-on-eco-congregation-and-biodiversity-the-churches-response/
LOCATION:Sandford Church
CATEGORIES:SandMillers
END:VEVENT
END:VCALENDAR