BEGIN:VCALENDAR
VERSION:2.0
PRODID:-//Sandford &amp; St Philip&#039;s - ECPv6.15.20//NONSGML v1.0//EN
CALSCALE:GREGORIAN
METHOD:PUBLISH
X-WR-CALNAME:Sandford &amp; St Philip&#039;s
X-ORIGINAL-URL:https://sandford.dublin.anglican.org
X-WR-CALDESC:Events for Sandford &amp; St Philip&#039;s
REFRESH-INTERVAL;VALUE=DURATION:PT1H
X-Robots-Tag:noindex
X-PUBLISHED-TTL:PT1H
BEGIN:VTIMEZONE
TZID:Europe/Dublin
BEGIN:STANDARD
TZOFFSETFROM:+0000
TZOFFSETTO:+0100
TZNAME:IST
DTSTART:20190331T010000
END:STANDARD
BEGIN:DAYLIGHT
TZOFFSETFROM:+0100
TZOFFSETTO:+0000
TZNAME:GMT
DTSTART:20191027T010000
END:DAYLIGHT
BEGIN:STANDARD
TZOFFSETFROM:+0000
TZOFFSETTO:+0100
TZNAME:IST
DTSTART:20200329T010000
END:STANDARD
BEGIN:DAYLIGHT
TZOFFSETFROM:+0100
TZOFFSETTO:+0000
TZNAME:GMT
DTSTART:20201025T010000
END:DAYLIGHT
BEGIN:STANDARD
TZOFFSETFROM:+0000
TZOFFSETTO:+0100
TZNAME:IST
DTSTART:20210328T010000
END:STANDARD
BEGIN:DAYLIGHT
TZOFFSETFROM:+0100
TZOFFSETTO:+0000
TZNAME:GMT
DTSTART:20211031T010000
END:DAYLIGHT
END:VTIMEZONE
BEGIN:VEVENT
DTSTART;TZID=Europe/Dublin:20200408T113000
DTEND;TZID=Europe/Dublin:20200408T140000
DTSTAMP:20260423T044821
CREATED:20200308T062918Z
LAST-MODIFIED:20200308T062918Z
UID:29846-1586345400-1586354400@sandford.dublin.anglican.org
SUMMARY:SandMillers: Tour of Museum of Literature Ireland\, Newman House
DESCRIPTION:11.30am: Meet at Musuem of Literature Ireland (MoLI)\, Newman House\, St Stephen’s Green South. \nTour costs: €10.20 \nTour followed by lunch in The Commons (MoLI). Please sign church porch lists by Sunday\, 5th April or phone Irene/Gloria.
URL:https://sandford.dublin.anglican.org/event/sandmillers-tour-of-museum-of-literature-ireland-newman-house/
LOCATION:Museum of Literature Ireland\, Newman House\, St Stephen’s Green South
CATEGORIES:SandMillers
END:VEVENT
END:VCALENDAR