BEGIN:VCALENDAR
VERSION:2.0
PRODID:-//Sandford &amp; St Philip&#039;s - ECPv6.15.20//NONSGML v1.0//EN
CALSCALE:GREGORIAN
METHOD:PUBLISH
X-WR-CALNAME:Sandford &amp; St Philip&#039;s
X-ORIGINAL-URL:https://sandford.dublin.anglican.org
X-WR-CALDESC:Events for Sandford &amp; St Philip&#039;s
REFRESH-INTERVAL;VALUE=DURATION:PT1H
X-Robots-Tag:noindex
X-PUBLISHED-TTL:PT1H
BEGIN:VTIMEZONE
TZID:Europe/Dublin
BEGIN:STANDARD
TZOFFSETFROM:+0000
TZOFFSETTO:+0100
TZNAME:IST
DTSTART:20170326T010000
END:STANDARD
BEGIN:DAYLIGHT
TZOFFSETFROM:+0100
TZOFFSETTO:+0000
TZNAME:GMT
DTSTART:20171029T010000
END:DAYLIGHT
BEGIN:STANDARD
TZOFFSETFROM:+0000
TZOFFSETTO:+0100
TZNAME:IST
DTSTART:20180325T010000
END:STANDARD
BEGIN:DAYLIGHT
TZOFFSETFROM:+0100
TZOFFSETTO:+0000
TZNAME:GMT
DTSTART:20181028T010000
END:DAYLIGHT
BEGIN:STANDARD
TZOFFSETFROM:+0000
TZOFFSETTO:+0100
TZNAME:IST
DTSTART:20190331T010000
END:STANDARD
BEGIN:DAYLIGHT
TZOFFSETFROM:+0100
TZOFFSETTO:+0000
TZNAME:GMT
DTSTART:20191027T010000
END:DAYLIGHT
END:VTIMEZONE
BEGIN:VEVENT
DTSTART;TZID=Europe/Dublin:20180602T150000
DTEND;TZID=Europe/Dublin:20180603T235900
DTSTAMP:20260422T230239
CREATED:20180207T224335Z
LAST-MODIFIED:20180301T204543Z
UID:2790-1527951600-1528070340@sandford.dublin.anglican.org
SUMMARY:Scouts Centenary Weekend\, St Philip's
DESCRIPTION:Time TBC
URL:https://sandford.dublin.anglican.org/event/scouts-centenary-weekend-st-philips/
LOCATION:St Philip’s Hall and Grounds
CATEGORIES:Scouts
END:VEVENT
BEGIN:VEVENT
DTSTART;TZID=Europe/Dublin:20180603T110000
DTEND;TZID=Europe/Dublin:20180603T120000
DTSTAMP:20260422T230240
CREATED:20180301T181623Z
LAST-MODIFIED:20180413T211332Z
UID:2878-1528023600-1528027200@sandford.dublin.anglican.org
SUMMARY:33rd Dublin Sandford Scout Group Centenary Service\, St Philip's (joint)
DESCRIPTION:11am
URL:https://sandford.dublin.anglican.org/event/33rd-dublin-sandford-scout-group-centenary-service/
LOCATION:St. Philip’s Church
CATEGORIES:Scouts
END:VEVENT
END:VCALENDAR