BEGIN:VCALENDAR
VERSION:2.0
PRODID:-//Sandford &amp; St Philip&#039;s - ECPv6.15.20//NONSGML v1.0//EN
CALSCALE:GREGORIAN
METHOD:PUBLISH
X-WR-CALNAME:Sandford &amp; St Philip&#039;s
X-ORIGINAL-URL:https://sandford.dublin.anglican.org
X-WR-CALDESC:Events for Sandford &amp; St Philip&#039;s
REFRESH-INTERVAL;VALUE=DURATION:PT1H
X-Robots-Tag:noindex
X-PUBLISHED-TTL:PT1H
BEGIN:VTIMEZONE
TZID:Europe/Dublin
BEGIN:STANDARD
TZOFFSETFROM:+0000
TZOFFSETTO:+0100
TZNAME:IST
DTSTART:20180325T010000
END:STANDARD
BEGIN:DAYLIGHT
TZOFFSETFROM:+0100
TZOFFSETTO:+0000
TZNAME:GMT
DTSTART:20181028T010000
END:DAYLIGHT
BEGIN:STANDARD
TZOFFSETFROM:+0000
TZOFFSETTO:+0100
TZNAME:IST
DTSTART:20190331T010000
END:STANDARD
BEGIN:DAYLIGHT
TZOFFSETFROM:+0100
TZOFFSETTO:+0000
TZNAME:GMT
DTSTART:20191027T010000
END:DAYLIGHT
BEGIN:STANDARD
TZOFFSETFROM:+0000
TZOFFSETTO:+0100
TZNAME:IST
DTSTART:20200329T010000
END:STANDARD
BEGIN:DAYLIGHT
TZOFFSETFROM:+0100
TZOFFSETTO:+0000
TZNAME:GMT
DTSTART:20201025T010000
END:DAYLIGHT
END:VTIMEZONE
BEGIN:VEVENT
DTSTART;TZID=Europe/Dublin:20191013T100000
DTEND;TZID=Europe/Dublin:20191013T110000
DTSTAMP:20260424T202331
CREATED:20190930T124506Z
LAST-MODIFIED:20190930T124506Z
UID:18102-1570960800-1570964400@sandford.dublin.anglican.org
SUMMARY:Sunday School\, Sandford Church
DESCRIPTION:10am
URL:https://sandford.dublin.anglican.org/event/sunday-school-sandford-church-2/
LOCATION:Sandford Church
CATEGORIES:Sunday School
END:VEVENT
BEGIN:VEVENT
DTSTART;TZID=Europe/Dublin:20191013T113000
DTEND;TZID=Europe/Dublin:20191013T123000
DTSTAMP:20260424T202331
CREATED:20190930T125002Z
LAST-MODIFIED:20190930T125002Z
UID:18112-1570966200-1570969800@sandford.dublin.anglican.org
SUMMARY:Sunday School\, St Philip's
DESCRIPTION:11.30am
URL:https://sandford.dublin.anglican.org/event/sunday-school-st-philips-8/
LOCATION:St. Philip’s Church
CATEGORIES:Sunday School
END:VEVENT
BEGIN:VEVENT
DTSTART;TZID=Europe/Dublin:20191020T110000
DTEND;TZID=Europe/Dublin:20191020T120000
DTSTAMP:20260424T202331
CREATED:20190930T113009Z
LAST-MODIFIED:20190930T115331Z
UID:18003-1571569200-1571572800@sandford.dublin.anglican.org
SUMMARY:Youth Organisation Service\, St Philip's Church
DESCRIPTION:Sunday 20 October at 11 am in St Philip’s Church \nThis service will gather together the leaders and members of the youth groups to celebrate and acknowledge their work and membership. This service will involve the Sunday School\, Garden Gang\, Choral Scholars\, Scouts\, Beavers\, Cubs and Brownies.
URL:https://sandford.dublin.anglican.org/event/youth-organisation-service-st-philips-church/
LOCATION:St. Philip’s Church
CATEGORIES:Brownies,Choral Scholars,Garden Gang,Scouts,Sunday School
END:VEVENT
END:VCALENDAR