BEGIN:VCALENDAR
VERSION:2.0
PRODID:-//Sandford &amp; St Philip&#039;s - ECPv6.15.20//NONSGML v1.0//EN
CALSCALE:GREGORIAN
METHOD:PUBLISH
X-WR-CALNAME:Sandford &amp; St Philip&#039;s
X-ORIGINAL-URL:https://sandford.dublin.anglican.org
X-WR-CALDESC:Events for Sandford &amp; St Philip&#039;s
REFRESH-INTERVAL;VALUE=DURATION:PT1H
X-Robots-Tag:noindex
X-PUBLISHED-TTL:PT1H
BEGIN:VTIMEZONE
TZID:Europe/Dublin
BEGIN:STANDARD
TZOFFSETFROM:+0000
TZOFFSETTO:+0100
TZNAME:IST
DTSTART:20180325T010000
END:STANDARD
BEGIN:DAYLIGHT
TZOFFSETFROM:+0100
TZOFFSETTO:+0000
TZNAME:GMT
DTSTART:20181028T010000
END:DAYLIGHT
BEGIN:STANDARD
TZOFFSETFROM:+0000
TZOFFSETTO:+0100
TZNAME:IST
DTSTART:20190331T010000
END:STANDARD
BEGIN:DAYLIGHT
TZOFFSETFROM:+0100
TZOFFSETTO:+0000
TZNAME:GMT
DTSTART:20191027T010000
END:DAYLIGHT
BEGIN:STANDARD
TZOFFSETFROM:+0000
TZOFFSETTO:+0100
TZNAME:IST
DTSTART:20200329T010000
END:STANDARD
BEGIN:DAYLIGHT
TZOFFSETFROM:+0100
TZOFFSETTO:+0000
TZNAME:GMT
DTSTART:20201025T010000
END:DAYLIGHT
END:VTIMEZONE
BEGIN:VEVENT
DTSTART;TZID=Europe/Dublin:20191110T100000
DTEND;TZID=Europe/Dublin:20191110T110000
DTSTAMP:20260424T024207
CREATED:20190930T124603Z
LAST-MODIFIED:20190930T124603Z
UID:18104-1573380000-1573383600@sandford.dublin.anglican.org
SUMMARY:Sunday School\, Sandford Church
DESCRIPTION:10am
URL:https://sandford.dublin.anglican.org/event/sunday-school-sandford-church-3/
LOCATION:Sandford Church
CATEGORIES:Sunday School
END:VEVENT
BEGIN:VEVENT
DTSTART;TZID=Europe/Dublin:20191124T100000
DTEND;TZID=Europe/Dublin:20191124T110000
DTSTAMP:20260424T024207
CREATED:20190930T124708Z
LAST-MODIFIED:20190930T124708Z
UID:18106-1574589600-1574593200@sandford.dublin.anglican.org
SUMMARY:Sunday School\, Sandford Church
DESCRIPTION:10am
URL:https://sandford.dublin.anglican.org/event/sunday-school-sandford-church-4/
LOCATION:Sandford Church
CATEGORIES:Sunday School
END:VEVENT
END:VCALENDAR