BEGIN:VCALENDAR
VERSION:2.0
PRODID:-//Sandford &amp; St Philip&#039;s - ECPv6.15.20//NONSGML v1.0//EN
CALSCALE:GREGORIAN
METHOD:PUBLISH
X-WR-CALNAME:Sandford &amp; St Philip&#039;s
X-ORIGINAL-URL:https://sandford.dublin.anglican.org
X-WR-CALDESC:Events for Sandford &amp; St Philip&#039;s
REFRESH-INTERVAL;VALUE=DURATION:PT1H
X-Robots-Tag:noindex
X-PUBLISHED-TTL:PT1H
BEGIN:VTIMEZONE
TZID:Europe/Dublin
BEGIN:STANDARD
TZOFFSETFROM:+0000
TZOFFSETTO:+0100
TZNAME:IST
DTSTART:20230326T010000
END:STANDARD
BEGIN:DAYLIGHT
TZOFFSETFROM:+0100
TZOFFSETTO:+0000
TZNAME:GMT
DTSTART:20231029T010000
END:DAYLIGHT
BEGIN:STANDARD
TZOFFSETFROM:+0000
TZOFFSETTO:+0100
TZNAME:IST
DTSTART:20240331T010000
END:STANDARD
BEGIN:DAYLIGHT
TZOFFSETFROM:+0100
TZOFFSETTO:+0000
TZNAME:GMT
DTSTART:20241027T010000
END:DAYLIGHT
BEGIN:STANDARD
TZOFFSETFROM:+0000
TZOFFSETTO:+0100
TZNAME:IST
DTSTART:20250330T010000
END:STANDARD
BEGIN:DAYLIGHT
TZOFFSETFROM:+0100
TZOFFSETTO:+0000
TZNAME:GMT
DTSTART:20251026T010000
END:DAYLIGHT
END:VTIMEZONE
BEGIN:VEVENT
DTSTART;TZID=Europe/Dublin:20240608T193000
DTEND;TZID=Europe/Dublin:20240608T203000
DTSTAMP:20260421T002444
CREATED:20240528T174551Z
LAST-MODIFIED:20240528T174628Z
UID:33822-1717875000-1717878600@sandford.dublin.anglican.org
SUMMARY:The Ranelagh Singers present Gloria by Antonio Vivaldi\, Sandford Church
DESCRIPTION:Under the direction of Rosemary O’Brien\, present: \nGloria by Antonio Vivaldi \nin a concert of choral music both modern and traditional to mark the 15-year anniversary of their foundation. \nSaturday 8th June at 7.30pm in Sandford Church \nAccompanist: David O’Shea  \nAdmission: €10/€5 concessions
URL:https://sandford.dublin.anglican.org/event/the-ranelagh-singers-sandford-church/
LOCATION:Sandford Church
CATEGORIES:Music at Sandford
END:VEVENT
END:VCALENDAR