BEGIN:VCALENDAR
VERSION:2.0
PRODID:-//Sandford &amp; St Philip&#039;s - ECPv6.15.20//NONSGML v1.0//EN
CALSCALE:GREGORIAN
METHOD:PUBLISH
X-WR-CALNAME:Sandford &amp; St Philip&#039;s
X-ORIGINAL-URL:https://sandford.dublin.anglican.org
X-WR-CALDESC:Events for Sandford &amp; St Philip&#039;s
REFRESH-INTERVAL;VALUE=DURATION:PT1H
X-Robots-Tag:noindex
X-PUBLISHED-TTL:PT1H
BEGIN:VTIMEZONE
TZID:Europe/Dublin
BEGIN:STANDARD
TZOFFSETFROM:+0000
TZOFFSETTO:+0100
TZNAME:IST
DTSTART:20180325T010000
END:STANDARD
BEGIN:DAYLIGHT
TZOFFSETFROM:+0100
TZOFFSETTO:+0000
TZNAME:GMT
DTSTART:20181028T010000
END:DAYLIGHT
BEGIN:STANDARD
TZOFFSETFROM:+0000
TZOFFSETTO:+0100
TZNAME:IST
DTSTART:20190331T010000
END:STANDARD
BEGIN:DAYLIGHT
TZOFFSETFROM:+0100
TZOFFSETTO:+0000
TZNAME:GMT
DTSTART:20191027T010000
END:DAYLIGHT
BEGIN:STANDARD
TZOFFSETFROM:+0000
TZOFFSETTO:+0100
TZNAME:IST
DTSTART:20200329T010000
END:STANDARD
BEGIN:DAYLIGHT
TZOFFSETFROM:+0100
TZOFFSETTO:+0000
TZNAME:GMT
DTSTART:20201025T010000
END:DAYLIGHT
END:VTIMEZONE
BEGIN:VEVENT
DTSTART;TZID=Europe/Dublin:20191208T083000
DTEND;TZID=Europe/Dublin:20191208T090000
DTSTAMP:20260425T155305
CREATED:20190930T121425Z
LAST-MODIFIED:20191201T205543Z
UID:18059-1575793800-1575795600@sandford.dublin.anglican.org
SUMMARY:Break Bread and Break Fast\, St Philip's Church and Hall
DESCRIPTION:The Parish Development Committee will host its second parish breakfast on Sunday 8 December in St Philip’s Hall. This will follow the 8.30 am Holy Communion service in St Philip’s (30 minute\, said service). \nIf you would like to join us please RSVP (for catering purposes) by Tuesday 3rd December to sandfordandstphilips@eircom.net. \n 
URL:https://sandford.dublin.anglican.org/event/break-bread-and-break-fast-st-philips-church-and-hall/
LOCATION:St. Philip’s Church
CATEGORIES:Parish Activity
END:VEVENT
END:VCALENDAR